BEGIN:VCALENDAR
VERSION:2.0
PRODID:-//ExpressionEngine Easy iCalendar plugin//NONSGML v2.0.1//EN
X-WR-TIMEZONE:America/Chicago
X-WR-CALNAME:Upcoming Auctions
BEGIN:VEVENT
UID:27880
DTSTAMP:20180614T000000
DTSTART:20180614T000000
DTEND:20180709T190000
SUMMARY:Surplus Masonry Equipment: (6) Hydro Mobile Scaffolding Unit
 s\, (3) Riding Trowels\, Dump Truck and Other Tools/Accessorie
 s
LOCATION:3 Checkered Flag Blvd\, Shakopee\, MN 55379\, US
DESCRIPTION:Coordinated By: Bid-2-Buy
URL:https://www.bid-2-buy.com/auctions/detail/surplus-masonry-eq
 uipment-6-hydro-mobile-scaffolding-units-3-bw27880
SEQUENCE:1
END:VEVENT
END:VCALENDAR