BEGIN:VCALENDAR
VERSION:2.0
PRODID:-//ExpressionEngine Easy iCalendar plugin//NONSGML v2.0.1//EN
X-WR-TIMEZONE:America/Chicago
X-WR-CALNAME:Upcoming Auctions
BEGIN:VEVENT
UID:48710
DTSTAMP:20200320T000000
DTSTART:20200320T000000
DTEND:20200416T190000
SUMMARY:Rental Shop Discontinuing Business\, Surplus Excavating Equip
 ment\, Fish House\, and Horse Equipment
LOCATION:41 Division Street\, Sandstone\, MN 55072\, US
DESCRIPTION:ID: 140626 Coordinated By: Bid-2-Buy
URL:https://www.bid-2-buy.com/auctions/detail/rental-shop-discon
 tinuing-business-and-surplus-excavating-eq-bw48710
SEQUENCE:1
END:VEVENT
END:VCALENDAR