BEGIN:VCALENDAR
VERSION:2.0
PRODID:-//ExpressionEngine Easy iCalendar plugin//NONSGML v2.0.1//EN
X-WR-TIMEZONE:America/Chicago
X-WR-CALNAME:Upcoming Auctions
BEGIN:VEVENT
UID:6900
DTSTAMP:20161102T110000
DTSTART:20161102T110000
DTEND:20161129T190000
SUMMARY:Polk County Sheriff's Office & HWY DEPT Auto and Surplus Auc
 tion
LOCATION:820 Old Hwy 75 South\, Crookston\, MN 56716\, US
DESCRIPTION:Coordinated By: Oistad Estate & Auction Service
URL:https://www.bid-2-buy.com/auctions/detail/polk-county-sherif
 fs-office-hwy-dept-auto-and-surplus-auctio-bw6900
SEQUENCE:1
END:VEVENT
END:VCALENDAR