BEGIN:VCALENDAR
VERSION:2.0
PRODID:-//ExpressionEngine Easy iCalendar plugin//NONSGML v2.0.0//EN
X-WR-TIMEZONE:America/Chicago
X-WR-CALNAME:Upcoming Auctions
BEGIN:VEVENT
UID:40923
DTSTAMP:20190729T000000
DTSTART:20190729T000000
DTEND:20190806T190000
SUMMARY:Midwest Auctions & Sales July Consignment
LOCATION:1508 4th Ave. NW\, West Fargo\, ND 58078\, US
DESCRIPTION:ID: 122497 Coordinated By: Midwest Auctions & Sales LLC
URL:https://www.bid-2-buy.com/auctions/detail/midwest-auctions-s
 ales-july-consignment-bw40923
SEQUENCE:1
END:VEVENT
END:VCALENDAR