BEGIN:VCALENDAR
VERSION:2.0
PRODID:-//ExpressionEngine Easy iCalendar plugin//NONSGML v2.0.1//EN
X-WR-TIMEZONE:America/Chicago
X-WR-CALNAME:Upcoming Auctions
BEGIN:VEVENT
UID:91251
DTSTAMP:20221025T000000
DTSTART:20221025T000000
DTEND:20221108T191500
SUMMARY:Surplus Restaurant Equipment & (2) Trailers
LOCATION:2080 1st Street N\, White Bear Lake\, MN 55110\, US
DESCRIPTION:ID: 228576 Coordinated By: Bid-2-Buy
URL:https://www.bid-2-buy.com/auctions/detail/bw91251
SEQUENCE:1
END:VEVENT
END:VCALENDAR