BEGIN:VCALENDAR
VERSION:2.0
PRODID:-//ExpressionEngine Easy iCalendar plugin//NONSGML v2.0.1//EN
X-WR-TIMEZONE:America/Chicago
X-WR-CALNAME:Upcoming Auctions
BEGIN:VEVENT
UID:81712
DTSTAMP:20220520T000000
DTSTART:20220520T000000
DTEND:20220605T190000
SUMMARY:Mikles Moving Sale\, Crosslake\, MN
LOCATION:12381 CR 16\, Crosslake\, MN 56442\, US
DESCRIPTION:ID: 215888 Coordinated By: Big Deal Consignments
URL:https://www.bid-2-buy.com/auctions/detail/bw81712
SEQUENCE:1
END:VEVENT
END:VCALENDAR