BEGIN:VCALENDAR
VERSION:2.0
PRODID:-//ExpressionEngine Easy iCalendar plugin//NONSGML v2.0.1//EN
X-WR-TIMEZONE:America/Chicago
X-WR-CALNAME:Upcoming Auctions
BEGIN:VEVENT
UID:81471
DTSTAMP:20220518T000000
DTSTART:20220518T000000
DTEND:20220606T193000
SUMMARY:Escalade\, Trailer\, Firearms\, Tools and More\, Walker\, MN
LOCATION:8525 State HWY 371 NW\, Walker\, MN 56484\, US
DESCRIPTION:ID: 215887 Coordinated By: Big Deal Consignments
URL:https://www.bid-2-buy.com/auctions/detail/bw81471
SEQUENCE:1
END:VEVENT
END:VCALENDAR