BEGIN:VCALENDAR
VERSION:2.0
PRODID:-//ExpressionEngine Easy iCalendar plugin//NONSGML v2.0.1//EN
X-WR-TIMEZONE:America/Chicago
X-WR-CALNAME:Upcoming Auctions
BEGIN:VEVENT
UID:75311
DTSTAMP:20220125T000000
DTSTART:20220125T000000
DTEND:20220207T190000
SUMMARY:Phase 3: National Recoveries Inc Office Furniture Liquidatio
 n
LOCATION:4265 Lexington Ave N\, Arden Hills\, MN 55126\, US
DESCRIPTION:ID: 203544 Coordinated By: Bid-2-Buy
URL:https://www.bid-2-buy.com/auctions/detail/bw75311
SEQUENCE:1
END:VEVENT
END:VCALENDAR