BEGIN:VCALENDAR
VERSION:2.0
PRODID:-//ExpressionEngine Easy iCalendar plugin//NONSGML v2.0.1//EN
X-WR-TIMEZONE:America/Chicago
X-WR-CALNAME:Upcoming Auctions
BEGIN:VEVENT
UID:55685
DTSTAMP:20201008T000000
DTSTART:20201008T000000
DTEND:20201022T180000
SUMMARY:1948 8N Ford Tractor\, 2008 Subaru Outback\, JD LA125 Lawnmowe
 r\, Trailers\, Coins\, Vintage Items\, Tools\, Household
LOCATION:W740 County Road B\, Mondovi\, WI 54755\, US
DESCRIPTION:ID: 156230 Coordinated By: ProCountry LLC Auction Service
URL:https://www.bid-2-buy.com/auctions/detail/bw55685
SEQUENCE:1
END:VEVENT
END:VCALENDAR