BEGIN:VCALENDAR
VERSION:2.0
PRODID:-//ExpressionEngine Easy iCalendar plugin//NONSGML v2.0.1//EN
X-WR-TIMEZONE:America/Chicago
X-WR-CALNAME:Upcoming Auctions
BEGIN:VEVENT
UID:52776
DTSTAMP:20200730T000000
DTSTART:20200730T000000
DTEND:20200812T193000
SUMMARY:23 Units: Toy Hauler\, Pickup Topper\, (5) 5th Wheels & (16) T
 ravel Trailers
LOCATION:1790 Hwy 55 East\, Buffalo\, MN 55113\, US
DESCRIPTION:ID: 150641 Coordinated By: WAG Auto
URL:https://www.bid-2-buy.com/auctions/detail/bw52776
SEQUENCE:1
END:VEVENT
END:VCALENDAR