BEGIN:VCALENDAR
VERSION:2.0
PRODID:-//ExpressionEngine Easy iCalendar plugin//NONSGML v2.0.1//EN
X-WR-TIMEZONE:America/Chicago
X-WR-CALNAME:Upcoming Auctions
BEGIN:VEVENT
UID:160964
DTSTAMP:20260422T090000
DTSTART:20260422T090000
DTEND:20260504T190000
SUMMARY:19 Pallets of Laminate Click Plank Flooring: #6
LOCATION:5160 Viking Blvd NW\, Nowthen\, MN 55303\, US
DESCRIPTION:ID: 160964 Coordinated By: Bid-2-Buy
URL:https://www.bid-2-buy.com/auctions/detail/bw160964
SEQUENCE:1
END:VEVENT
END:VCALENDAR