BEGIN:VCALENDAR
VERSION:2.0
PRODID:-//ExpressionEngine Easy iCalendar plugin//NONSGML v2.0.1//EN
X-WR-TIMEZONE:America/Chicago
X-WR-CALNAME:Upcoming Auctions
BEGIN:VEVENT
UID:160824
DTSTAMP:20260422T090000
DTSTART:20260422T090000
DTEND:20260430T191500
SUMMARY:Fire Wood and Lumber Logs
LOCATION:1440 Bunker Lake Blvd NW\, Andover\, MN 55304\, US
DESCRIPTION:ID: 160824 Coordinated By: Bid-2-Buy
URL:https://www.bid-2-buy.com/auctions/detail/bw160824
SEQUENCE:1
END:VEVENT
END:VCALENDAR