BEGIN:VCALENDAR
VERSION:2.0
PRODID:-//ExpressionEngine Easy iCalendar plugin//NONSGML v2.0.0//EN
X-WR-TIMEZONE:America/Chicago
X-WR-CALNAME:Upcoming Auctions
BEGIN:VEVENT
UID:160785
DTSTAMP:20260421T090000
DTSTART:20260421T090000
DTEND:20260504T191500
SUMMARY:2016 Tracker Targa V18 Combo Boat With Trailer
LOCATION:{location}
DESCRIPTION:ID: 160785 Coordinated by: Bid-2-Buy
URL:https://www.bid-2-buy.com/auctions/detail/bw160785
SEQUENCE:1
END:VEVENT
END:VCALENDAR