BEGIN:VCALENDAR
VERSION:2.0
PRODID:-//ExpressionEngine Easy iCalendar plugin//NONSGML v2.0.0//EN
X-WR-TIMEZONE:America/Chicago
X-WR-CALNAME:Upcoming Auctions
BEGIN:VEVENT
UID:160748
DTSTAMP:20260421T090000
DTSTART:20260421T090000
DTEND:20260506T190000
SUMMARY:James Pauly Estate\, Perham\, MN
LOCATION:47185 Benny Lane\, Perham\, MN 56573\, US
DESCRIPTION:ID: 160748 Coordinated By: Big Deal Consignments ***34' Camp
 er\, 69 VW Bug\, Cargo Trailer\, Utility Trailers\, Snowmobiles\,
  Honda Big Red\, Honda 300 ATV\, Vehicles\, Tools\, Lawn and Gar
 den Items\, Lumber\, Firewood\, Sledbed Snowmobile Trailer\, Spo
 rting Goods and Much More!
URL:https://www.bid-2-buy.com/auctions/detail/bw160748
SEQUENCE:1
END:VEVENT
END:VCALENDAR