BEGIN:VCALENDAR
VERSION:2.0
PRODID:-//ExpressionEngine Easy iCalendar plugin//NONSGML v2.0.1//EN
X-WR-TIMEZONE:America/Chicago
X-WR-CALNAME:Upcoming Auctions
BEGIN:VEVENT
UID:160600
DTSTAMP:20260423T090000
DTSTART:20260423T090000
DTEND:20260505T191500
SUMMARY:Solid & Slotted Composite Deck Boards: 16'\, 12'
LOCATION:5160 Viking Blvd NW\, Nowthen\, MN 55303\, US
DESCRIPTION:ID: 160600 Coordinated By: Bid-2-Buy
URL:https://www.bid-2-buy.com/auctions/detail/bw160600
SEQUENCE:1
END:VEVENT
END:VCALENDAR