BEGIN:VCALENDAR
VERSION:2.0
PRODID:-//ExpressionEngine Easy iCalendar plugin//NONSGML v2.0.1//EN
X-WR-TIMEZONE:America/Chicago
X-WR-CALNAME:Upcoming Auctions
BEGIN:VEVENT
UID:158171
DTSTAMP:20260424T090000
DTSTART:20260424T090000
DTEND:20260511T190000
SUMMARY:Live Edge Suar Table\, Bathroom Vanities & Teak Furniture
LOCATION:620 Summit Ave\, Center City\, MN 55012\, US
DESCRIPTION:ID: 158171 Coordinated By: Bid-2-Buy  
URL:https://www.bid-2-buy.com/auctions/detail/bw158171
SEQUENCE:1
END:VEVENT
END:VCALENDAR