BEGIN:VCALENDAR
VERSION:2.0
PRODID:-//ExpressionEngine Easy iCalendar plugin//NONSGML v2.0.1//EN
X-WR-TIMEZONE:America/Chicago
X-WR-CALNAME:Upcoming Auctions
BEGIN:VEVENT
UID:139200
DTSTAMP:20250528T090000
DTSTART:20250528T090000
DTEND:20250615T190000
SUMMARY:Ideal Corners Early June Consignment Auction\, Pequot Lakes\, 
 MN (139200)
LOCATION:9569 County Road 16\, Pequot Lakes\, MN 56472\, US
DESCRIPTION:ID: 139200 Coordinated By: Big Deal Consignments
URL:https://www.bid-2-buy.com/auctions/detail/bw139200
SEQUENCE:1
END:VEVENT
END:VCALENDAR