BEGIN:VCALENDAR
VERSION:2.0
PRODID:-//ExpressionEngine Easy iCalendar plugin//NONSGML v2.0.0//EN
X-WR-TIMEZONE:America/Chicago
X-WR-CALNAME:Upcoming Auctions
BEGIN:VEVENT
UID:127091
DTSTAMP:20240911T090000
DTSTART:20240911T090000
DTEND:20240923T190000
SUMMARY:Franchise Car Dealership Moving Locations (127091)
LOCATION:815 NW 4th St\, Grand Rapids\, MN 55744\, US
DESCRIPTION:ID: 127091 Coordinated By: Bid-2-Buy
URL:https://www.bid-2-buy.com/auctions/detail/bw127091
SEQUENCE:1
END:VEVENT
END:VCALENDAR