BEGIN:VCALENDAR
VERSION:2.0
PRODID:-//ExpressionEngine Easy iCalendar plugin//NONSGML v2.0.1//EN
X-WR-TIMEZONE:America/Chicago
X-WR-CALNAME:Upcoming Auctions
BEGIN:VEVENT
UID:111466
DTSTAMP:20231117T000000
DTSTART:20231117T000000
DTEND:20231212T190000
SUMMARY:Miller Excavating Surplus to Ongoing Operations
LOCATION:3741 Stagecoach Trail N\, Stillwater\, MN 55082\, US
DESCRIPTION:ID: 259381 Coordinated By: Bid-2-Buy
URL:https://www.bid-2-buy.com/auctions/detail/bw111466
SEQUENCE:1
END:VEVENT
END:VCALENDAR