BEGIN:VCALENDAR
VERSION:2.0
PRODID:-//ExpressionEngine Easy iCalendar plugin//NONSGML v2.0.0//EN
X-WR-TIMEZONE:America/Chicago
X-WR-CALNAME:Upcoming Auctions
BEGIN:VEVENT
UID:111242
DTSTAMP:20231114T000000
DTSTART:20231114T000000
DTEND:20231205T190000
SUMMARY:Payloaders\, Trucks\, Tools\, & Equipment
LOCATION:18649 MN 65 NE\, East Bethel\, MN 55011\, US
DESCRIPTION:ID: 258780 Coordinated By: Bid-2-Buy
URL:https://www.bid-2-buy.com/auctions/detail/bw111242
SEQUENCE:1
END:VEVENT
END:VCALENDAR