BEGIN:VCALENDAR
VERSION:2.0
PRODID:-//ExpressionEngine Easy iCalendar plugin//NONSGML v2.0.1//EN
X-WR-TIMEZONE:America/Chicago
X-WR-CALNAME:Upcoming Auctions
BEGIN:VEVENT
UID:108448
DTSTAMP:20230925T000000
DTSTART:20230925T000000
DTEND:20231015T190000
SUMMARY:Personal Property Reduction Auction\, Ironton\, MN
LOCATION:16189 Spruce Rd\, Ironton\, MN 56455\, US
DESCRIPTION:ID: 254974 Coordinated By: Big Deal Consignments
URL:https://www.bid-2-buy.com/auctions/detail/bw108448
SEQUENCE:1
END:VEVENT
END:VCALENDAR