BEGIN:VCALENDAR
VERSION:2.0
PRODID:-//ExpressionEngine Easy iCalendar plugin//NONSGML v2.0.0//EN
X-WR-TIMEZONE:America/Chicago
X-WR-CALNAME:Upcoming Auctions
BEGIN:VEVENT
UID:103918
DTSTAMP:20230707T000000
DTSTART:20230707T000000
DTEND:20230723T190000
SUMMARY:David Brammann Living Estate\, Backus\, MN
LOCATION:3725 Clough Rd\, Backus\, MN 56435\, US
DESCRIPTION:ID: 247222 Coordinated By: Big Deal Consignments
URL:https://www.bid-2-buy.com/auctions/detail/bw103918
SEQUENCE:1
END:VEVENT
END:VCALENDAR