BEGIN:VCALENDAR
VERSION:2.0
PRODID:-//ExpressionEngine Easy iCalendar plugin//NONSGML v2.0.1//EN
X-WR-TIMEZONE:America/Chicago
X-WR-CALNAME:Upcoming Auctions
BEGIN:VEVENT
UID:41470
DTSTAMP:20190816T000000
DTSTART:20190816T000000
DTEND:20190826T193000
SUMMARY:1988 Enterprise 1810 Engine Lathe\, Rockwell 70-400 4 Bank Dr
 ill Press\, 14' Jib Crane\, 1/2 Ton Chain Hoist
LOCATION:2043 105th Ave NE\, Blaine\, MN 55449\, US
DESCRIPTION:ID: 125093 Coordinated By: Bid-2-Buy
URL:https://www.bid-2-buy.com/auctions/detail/1988-enterprise-18
 10-engine-lathe-rockwell-70-400-4-bank-dri-bw41470
SEQUENCE:1
END:VEVENT
END:VCALENDAR