BEGIN:VCALENDAR
VERSION:2.0
PRODID:-//ExpressionEngine Easy iCalendar plugin//NONSGML v2.0.1//EN
X-WR-TIMEZONE:America/Chicago
X-WR-CALNAME:Upcoming Auctions
BEGIN:VEVENT
UID:39836
DTSTAMP:20190617T000000
DTSTART:20190617T000000
DTEND:20190702T200000
SUMMARY:1978 International Loadstar 1700 Grain Truck
LOCATION:Coming Soon\, Dawson\, MN 56232\, US
DESCRIPTION:ID: 120491 Coordinated By: PCM Auction Company Inc
URL:https://www.bid-2-buy.com/auctions/detail/1978-international
 -loadstar-1700-grain-truck-bw39836
SEQUENCE:1
END:VEVENT
END:VCALENDAR